BEGIN:VCALENDAR
VERSION:2.0
PRODID:-//transportbooks.com - A Bookstore for Car, Motorcycle, Train, Plane, &amp; Boat Enthusiasts - ECPv6.15.18//NONSGML v1.0//EN
CALSCALE:GREGORIAN
METHOD:PUBLISH
X-ORIGINAL-URL:https://www.transportbooks.com
X-WR-CALDESC:Events for transportbooks.com - A Bookstore for Car, Motorcycle, Train, Plane, &amp; Boat Enthusiasts
REFRESH-INTERVAL;VALUE=DURATION:PT1H
X-Robots-Tag:noindex
X-PUBLISHED-TTL:PT1H
BEGIN:VTIMEZONE
TZID:America/Toronto
BEGIN:DAYLIGHT
TZOFFSETFROM:-0500
TZOFFSETTO:-0400
TZNAME:EDT
DTSTART:20210314T070000
END:DAYLIGHT
BEGIN:STANDARD
TZOFFSETFROM:-0400
TZOFFSETTO:-0500
TZNAME:EST
DTSTART:20211107T060000
END:STANDARD
BEGIN:DAYLIGHT
TZOFFSETFROM:-0500
TZOFFSETTO:-0400
TZNAME:EDT
DTSTART:20220313T070000
END:DAYLIGHT
BEGIN:STANDARD
TZOFFSETFROM:-0400
TZOFFSETTO:-0500
TZNAME:EST
DTSTART:20221106T060000
END:STANDARD
BEGIN:DAYLIGHT
TZOFFSETFROM:-0500
TZOFFSETTO:-0400
TZNAME:EDT
DTSTART:20230312T070000
END:DAYLIGHT
BEGIN:STANDARD
TZOFFSETFROM:-0400
TZOFFSETTO:-0500
TZNAME:EST
DTSTART:20231105T060000
END:STANDARD
END:VTIMEZONE
BEGIN:VEVENT
DTSTART;TZID=America/Toronto:20220729T090000
DTEND;TZID=America/Toronto:20220729T180000
DTSTAMP:20260422T074915
CREATED:20220419T023406Z
LAST-MODIFIED:20220727T054119Z
UID:20184047-1659085200-1659117600@www.transportbooks.com
SUMMARY:Granby International - Car Show\, Auction & Flea Market
DESCRIPTION:The Granby International event is one of the largest Elegance vintage car competition in Canada\, with nearly 3\,000 vehicles on display. In addition to the exhibition\, the event also features an auction of more than 100 vintage cars and a flea market of parts and car accessories. Owners\, collectors\, young and old are all are invited to this gathering where exhibitors and their beautiful cars are honored.
URL:https://www.transportbooks.com/event/granby-international-car-show-auction-flea-market/
LOCATION:Daniel Johnson Park\, 230 rue Drummond\, Granby\, Quebec\, J2G 2S3\, Canada
CATEGORIES:Auction,Car Show,Flea Market
ATTACH;FMTTYPE=image/jpeg:https://www.transportbooks.com/wp-content/uploads/2022/04/Granby-2022-logo.jpg
END:VEVENT
BEGIN:VEVENT
DTSTART;TZID=America/Toronto:20220417T090000
DTEND;TZID=America/Toronto:20220417T143000
DTSTAMP:20260422T074915
CREATED:20220415T212605Z
LAST-MODIFIED:20220415T212605Z
UID:20184038-1650186000-1650205800@www.transportbooks.com
SUMMARY:Ancaster British Car Show & Flea Market
DESCRIPTION:Ancaster Fairgrounds – 630 Trinity Road\nmore info: www.ancasterbritish.ca
URL:https://www.transportbooks.com/event/ancaster-british-car-show-flea-market/
LOCATION:Ancaster Fair Grounds\, 630 Trinity Road\, Ancaster\, Ontario\, Canada
CATEGORIES:Car Show,Flea Market
END:VEVENT
END:VCALENDAR